BEGIN:VCALENDAR
VERSION:2.0
PRODID:-//Converse EDC - ECPv6.15.20//NONSGML v1.0//EN
CALSCALE:GREGORIAN
METHOD:PUBLISH
X-WR-CALNAME:Converse EDC
X-ORIGINAL-URL:https://chooseconverse.com
X-WR-CALDESC:Events for Converse EDC
REFRESH-INTERVAL;VALUE=DURATION:PT1H
X-Robots-Tag:noindex
X-PUBLISHED-TTL:PT1H
BEGIN:VTIMEZONE
TZID:UTC
BEGIN:STANDARD
TZOFFSETFROM:+0000
TZOFFSETTO:+0000
TZNAME:UTC
DTSTART:20210101T000000
END:STANDARD
END:VTIMEZONE
BEGIN:VTIMEZONE
TZID:Asia/Karachi
BEGIN:STANDARD
TZOFFSETFROM:+0500
TZOFFSETTO:+0500
TZNAME:PKT
DTSTART:20210101T000000
END:STANDARD
END:VTIMEZONE
BEGIN:VTIMEZONE
TZID:UTC
BEGIN:STANDARD
TZOFFSETFROM:+0000
TZOFFSETTO:+0000
TZNAME:UTC
DTSTART:20210101T000000
END:STANDARD
END:VTIMEZONE
BEGIN:VEVENT
DTSTART;TZID=UTC:20240425T113000
DTEND;TZID=UTC:20240425T130000
DTSTAMP:20260423T010254
CREATED:20240322T142641Z
LAST-MODIFIED:20240322T142748Z
UID:4446-1714044600-1714050000@chooseconverse.com
SUMMARY:Annual Commercial Real Estate Partner Luncheon
DESCRIPTION:The Converse EDC is hosting a luncheon for our partner commercial real estate professionals! We invite those real estate partners to come learn what investments the City of Converse is making for its future. Gain insights from city leadership on regulatory developments and current/future projects impacting commercial real estate and the quality of life of Converse residents.
URL:https://chooseconverse.com/event/annual-commercial-real-estate-partner-luncheon/
LOCATION:Bella on the Vine\, 8607 FM 1976 Bldg. 2\, Converse\, TX\, 78109\, United States
ORGANIZER;CN="Converse EDC":MAILTO:staff@converseedc.com
END:VEVENT
BEGIN:VEVENT
DTSTART;TZID=UTC:20240326T183000
DTEND;TZID=UTC:20240326T210000
DTSTAMP:20260423T010254
CREATED:20240223T204840Z
LAST-MODIFIED:20240322T141746Z
UID:4406-1711477800-1711486800@chooseconverse.com
SUMMARY:EDC Board Meeting
DESCRIPTION:Agenda
URL:https://chooseconverse.com/event/edc-board-meeting-4/
LOCATION:Council Chambers\, 402 S. Seguin\, Converse\, TX\, 78109\, United States
ORGANIZER;CN="Converse EDC":MAILTO:staff@converseedc.com
END:VEVENT
BEGIN:VEVENT
DTSTART;TZID=UTC:20240215T100000
DTEND;TZID=UTC:20240215T140000
DTSTAMP:20260423T010254
CREATED:20240102T171150Z
LAST-MODIFIED:20240102T171150Z
UID:4384-1707991200-1708005600@chooseconverse.com
SUMMARY:SizeUp Converse
DESCRIPTION:More Information to Come
URL:https://chooseconverse.com/event/sizeup-converse/
LOCATION:Council Chambers\, 402 S. Seguin\, Converse\, TX\, 78109\, United States
ORGANIZER;CN="Converse EDC":MAILTO:staff@converseedc.com
END:VEVENT
BEGIN:VEVENT
DTSTART;TZID=UTC:20240109T183000
DTEND;TZID=UTC:20240109T203000
DTSTAMP:20260423T010254
CREATED:20231127T173557Z
LAST-MODIFIED:20231127T173557Z
UID:4266-1704825000-1704832200@chooseconverse.com
SUMMARY:EDC Board Meeting
DESCRIPTION:Regularly scheduled board meeting
URL:https://chooseconverse.com/event/edc-board-meeting-3/
LOCATION:Council Chambers\, 402 S. Seguin\, Converse\, TX\, 78109\, United States
CATEGORIES:EDC Board Meeting
ORGANIZER;CN="Converse EDC":MAILTO:staff@converseedc.com
END:VEVENT
BEGIN:VEVENT
DTSTART;TZID=UTC:20231108T183000
DTEND;TZID=UTC:20231114T203000
DTSTAMP:20260423T010254
CREATED:20230925T145616Z
LAST-MODIFIED:20231031T163344Z
UID:4168-1699468200-1699993800@chooseconverse.com
SUMMARY:EDC Regular Board Meeting
DESCRIPTION:
URL:https://chooseconverse.com/event/edc-regular-board-meeting/
LOCATION:Council Chambers\, 402 S. Seguin\, Converse\, TX\, 78109\, United States
ORGANIZER;CN="Converse EDC":MAILTO:staff@converseedc.com
END:VEVENT
BEGIN:VEVENT
DTSTART;TZID=UTC:20231026T110000
DTEND;TZID=UTC:20231026T233000
DTSTAMP:20260423T010254
CREATED:20230925T145445Z
LAST-MODIFIED:20230925T145445Z
UID:4165-1698318000-1698363000@chooseconverse.com
SUMMARY:Ribbon-Cutting for JASI - Jewel Athletic Scholastic Institute
DESCRIPTION:You are invited to join us for a ribbon-cutting ceremony for JASI.
URL:https://chooseconverse.com/event/ribbon-cutting-for-jasi-jewel-athletic-scholastic-institute/
LOCATION:JASI\, 8845 FM 1976 STE#106\, Converse\, TX\, 78109\, United States
CATEGORIES:Ribbon-Cuttings
ORGANIZER;CN="Converse EDC":MAILTO:staff@converseedc.com
END:VEVENT
BEGIN:VEVENT
DTSTART;TZID=UTC:20231026T100000
DTEND;TZID=UTC:20231026T103000
DTSTAMP:20260423T010254
CREATED:20230925T145136Z
LAST-MODIFIED:20230925T145136Z
UID:4162-1698314400-1698316200@chooseconverse.com
SUMMARY:Ribbon-Cutting for PolliNatives Nursery
DESCRIPTION:You are invited to join us for a Ribbon-Cutting ceremony at PolliNatives Nursery.
URL:https://chooseconverse.com/event/ribbon-cutting-for-pollinatives-nursery/
LOCATION:PolliNatives\, 101 South St.\, Converse\, TX\, 78109\, United States
CATEGORIES:Ribbon-Cuttings
ORGANIZER;CN="Converse EDC":MAILTO:staff@converseedc.com
END:VEVENT
BEGIN:VEVENT
DTSTART;TZID=UTC:20231007T093000
DTEND;TZID=UTC:20231007T230000
DTSTAMP:20260423T010254
CREATED:20230925T145839Z
LAST-MODIFIED:20230925T145839Z
UID:4170-1696671000-1696719600@chooseconverse.com
SUMMARY:Night in Ole Converse Parade
DESCRIPTION:
URL:https://chooseconverse.com/event/night-in-ole-converse-parade/
LOCATION:Converse Senior Center\, 405 South Seguin\, Converse\, TX\, 78109\, United States
CATEGORIES:City Events
ORGANIZER;CN="Converse EDC":MAILTO:staff@converseedc.com
END:VEVENT
BEGIN:VEVENT
DTSTART;TZID=UTC:20230720T104500
DTEND;TZID=UTC:20230720T120000
DTSTAMP:20260423T010254
CREATED:20230627T200107Z
LAST-MODIFIED:20230627T200107Z
UID:3944-1689849900-1689854400@chooseconverse.com
SUMMARY:Ribbon Cutting Celebration Fiiz Drinks
DESCRIPTION:The City of Converse Economic Development Corporation (EDC) invites you to celebrate the Ribbon Cutting Ceremony for Fiiz Drinks on Thursday\, July 20 at 10:45 am. They are located at the Autumn Heights Shopping Center at 7215 TX-1604 #112. For more info: https://conta.cc/3NOdHRO \nFor more information\, like our Facebook page!
URL:https://chooseconverse.com/event/ribbon-cutting-celebration-fiiz-drinks/
LOCATION:Fiiz Drinks\, 7215 TX-1604 #112\, Converse\, TX\, 78109\, United States
CATEGORIES:Ribbon-Cuttings
ATTACH;FMTTYPE=image/jpeg:https://chooseconverse.com/wp-content/uploads/2023/06/Fizz-Drinks-Ribbon-Cutting-.jpg
ORGANIZER;CN="Converse EDC":MAILTO:staff@converseedc.com
END:VEVENT
BEGIN:VEVENT
DTSTART;TZID=Asia/Karachi:20230720T100000
DTEND;TZID=Asia/Karachi:20230720T110000
DTSTAMP:20260423T010254
CREATED:20230627T192517Z
LAST-MODIFIED:20230627T192518Z
UID:3939-1689847200-1689850800@chooseconverse.com
SUMMARY:Ribbon Cutting Ceremony for Autumn Heights Dental
DESCRIPTION:The City of Converse Economic Development Corporation (EDC) invites you to celebrate the Ribbon Cutting Ceremony for Autumn Heights Dental on Thursday\, July 20 at 10:00 am. They are located at the Autumn Heights Shopping Center at 7215 TX-1604 #102. \nLike us on Facebook for more updates. \nAutumn Heights Dental Ribbon Cutting
URL:https://chooseconverse.com/event/ribbon-cutting-ceremony-for-autumn-heights-dental/
LOCATION:Autumn Heights Dental\, 7215 TX-1604 #102\, converse\, TX\, 78109\, United States
CATEGORIES:Ribbon-Cuttings
ATTACH;FMTTYPE=image/jpeg:https://chooseconverse.com/wp-content/uploads/2023/06/Autumn-Heights-Dental-.jpg
ORGANIZER;CN="Converse EDC":MAILTO:staff@converseedc.com
END:VEVENT
BEGIN:VEVENT
DTSTART;TZID=Asia/Karachi:20230525T100000
DTEND;TZID=Asia/Karachi:20230525T110000
DTSTAMP:20260423T010254
CREATED:20230509T150013Z
LAST-MODIFIED:20230509T150013Z
UID:3863-1685008800-1685012400@chooseconverse.com
SUMMARY:Join Us in Celebrating  A Ribbon Cutting Ceremony for Rudy's Tex Mex & Cafe
DESCRIPTION:Join Us in Celebrating A Ribbon Cutting Ceremony  \nfor Rudy’s Tex Mex & Café in Converse\, TX  \non Thursday May 25th at 10am.  \nRudy’s Tex Mex & Café is located in Lott’s Landing (across from the Super Walmart on FM 78) at 8340 FM 78 Suite #4. Call today to order some amazing Tex Mex at 210-462-7839. Hours of Operations are: Mon-Sun 10am-8pm and closed on Tuesday’s.  \n\n\n\n\nEditCopy
URL:https://chooseconverse.com/event/join-us-in-celebrating-a-ribbon-cutting-ceremony-for-rudys-tex-mex-cafe/
LOCATION:Rudy’s Tex Mex & Cafe\, 8340 FM 78 Suite 4\, converse\, TX\, 78109\, United States
CATEGORIES:Ribbon-Cuttings
ATTACH;FMTTYPE=image/png:https://chooseconverse.com/wp-content/uploads/2023/05/Invite-Total.png
ORGANIZER;CN="Converse EDC":MAILTO:staff@converseedc.com
END:VEVENT
BEGIN:VEVENT
DTSTART;TZID=UTC:20230425T183000
DTEND;TZID=UTC:20230425T193000
DTSTAMP:20260423T010254
CREATED:20230425T170058Z
LAST-MODIFIED:20230425T180317Z
UID:3857-1682447400-1682451000@chooseconverse.com
SUMMARY:EDC Board Work Session
DESCRIPTION:04-25-23 Work Session Agenda
URL:https://chooseconverse.com/event/edc-board-work-session/
LOCATION:Council Chambers\, 402 S. Seguin\, Converse\, TX\, 78109\, United States
CATEGORIES:EDC Board Meeting
ORGANIZER;CN="Converse EDC":MAILTO:staff@converseedc.com
END:VEVENT
BEGIN:VEVENT
DTSTART;TZID=Asia/Karachi:20230420T100000
DTEND;TZID=Asia/Karachi:20230420T110000
DTSTAMP:20260423T010254
CREATED:20230404T193209Z
LAST-MODIFIED:20230404T193403Z
UID:3841-1681984800-1681988400@chooseconverse.com
SUMMARY:Jireh Granite Ribbon Cutting Ceremony
DESCRIPTION:Join Us in Celebrating A Ribbon Cutting Ceremony for Jireh Granite on Thursday\, April 20th at 10:000am! \nJireh\, a long standing and trusted local Converse business has a new showroom and granite yard. \nThey are ready to discuss all your remodeling projects. \nTheir new location is at 9192 FM 78\, call them today for a quote at 210-800-2429.
URL:https://chooseconverse.com/event/jireh-granite-ribbon-cutting-ceremony/
LOCATION:Jireh Granite\, 9192 FM 78\, Converse\, TX\, 78109\, United States
CATEGORIES:Ribbon-Cuttings
ATTACH;FMTTYPE=image/png:https://chooseconverse.com/wp-content/uploads/2023/04/jireh-granite-logo.png
ORGANIZER;CN="Converse EDC":MAILTO:staff@converseedc.com
END:VEVENT
BEGIN:VEVENT
DTSTART;TZID=UTC:20230330T183000
DTEND;TZID=UTC:20230330T213000
DTSTAMP:20260423T010254
CREATED:20230118T211729Z
LAST-MODIFIED:20230301T142128Z
UID:3774-1680201000-1680211800@chooseconverse.com
SUMMARY:Regular EDC Board Meeting
DESCRIPTION:Regularly scheduled EDC Board Meeting. Details of the agenda can be found at conversetx.net under agenda/minutes.
URL:https://chooseconverse.com/event/regular-edc-board-meeting/
LOCATION:Council Chambers\, 402 S. Seguin\, Converse\, TX\, 78109\, United States
ORGANIZER;CN="Converse EDC":MAILTO:staff@converseedc.com
END:VEVENT
BEGIN:VEVENT
DTSTART;TZID=UTC:20230330T100000
DTEND;TZID=UTC:20230330T110000
DTSTAMP:20260423T010254
CREATED:20230307T135822Z
LAST-MODIFIED:20230316T140109Z
UID:3827-1680170400-1680174000@chooseconverse.com
SUMMARY:Join Us in Celebrating A Ribbon Cutting Ceremony for Service Cuts Barbershop
DESCRIPTION:Join Us in Celebrating A Ribbon Cutting Ceremony on Thursday\, March 30th! \n\nThe City of Converse Economic Development Corporation (EDC) on behalf of Service Cuts Barbershop \ninvites you to their Ribbon Cutting Ceremony on Thursday\, March 30\, 2023\, at 10:00 am. \nFor more information click here \n \nWear your Converse Chucks \n#ConverseTXChuckStop #ChuckStopConverseTX
URL:https://chooseconverse.com/event/join-us-in-celebrating-a-ribbon-cutting-ceremony-for-service-cuts-barbarshop/
LOCATION:Service Cuts Barbershop\, 8455 Crestway\, Suite 115\, Converse\, TX\, 78109\, United States
CATEGORIES:Ribbon-Cuttings
ATTACH;FMTTYPE=image/png:https://chooseconverse.com/wp-content/uploads/2023/03/RC-Invite-Service-Cuts-Barbershop-1.png
ORGANIZER;CN="Converse EDC":MAILTO:staff@converseedc.com
END:VEVENT
BEGIN:VEVENT
DTSTART;TZID=UTC:20230225T083000
DTEND;TZID=UTC:20230225T150000
DTSTAMP:20260423T010254
CREATED:20230118T211509Z
LAST-MODIFIED:20230118T211509Z
UID:3772-1677313800-1677337200@chooseconverse.com
SUMMARY:EDC Board Visioning Retreat
DESCRIPTION:The Converse EDC Board of Directors will be holding an all-day visioning retreat. In this setting\, City Council as well as the EDC Board will engage in conversations about the Mission and Vision of the organization. Hickey Global will consult and lead the visioning discussion based on research done over the past month. This will be an open meeting and thus will be subject to open meeting laws.
URL:https://chooseconverse.com/event/edc-board-visioning-retreat/
LOCATION:Council Chambers\, 402 S. Seguin\, Converse\, TX\, 78109\, United States
ORGANIZER;CN="Converse EDC":MAILTO:staff@converseedc.com
END:VEVENT
BEGIN:VEVENT
DTSTART;TZID=UTC:20230209T100000
DTEND;TZID=UTC:20230209T110000
DTSTAMP:20260423T010254
CREATED:20230124T221947Z
LAST-MODIFIED:20230124T222116Z
UID:3780-1675936800-1675940400@chooseconverse.com
SUMMARY:Evening Stars Drop-In Center Ribbon Cutting Ceremony
DESCRIPTION:Join Us in Celebrating Evening Stars Drop-In Center’s Ribbon Cutting Thursday\, February 9th! They are located at 9073 FM 78. Call them at 210.310.3206. For more information on this event\, click here: https://conta.cc/3XRACxM
URL:https://chooseconverse.com/event/evening-stars-drop-in-center-ribbon-cutting-ceremony/
LOCATION:Evening Stars Drop-In Center\, 9073 FM 78\, Converse\, TX\, 78109\, United States
CATEGORIES:Ribbon-Cuttings
ATTACH;FMTTYPE=image/png:https://chooseconverse.com/wp-content/uploads/2023/01/Evening-Stars-Drop-In-Center-Invite-1.png
ORGANIZER;CN="Converse EDC":MAILTO:staff@converseedc.com
END:VEVENT
BEGIN:VEVENT
DTSTART;TZID=UTC:20230202T110000
DTEND;TZID=UTC:20230217T113000
DTSTAMP:20260423T010254
CREATED:20230118T210856Z
LAST-MODIFIED:20230118T212031Z
UID:3769-1675335600-1676633400@chooseconverse.com
SUMMARY:Ribbon Cutting for Burger King #2
DESCRIPTION:
URL:https://chooseconverse.com/event/ribbon-cutting-for-burger-king-2/
LOCATION:Burger King #2\, 7626 Loop 1604\, Converse\, TX\, 78109\, United States
ATTACH;FMTTYPE=image/jpeg:https://chooseconverse.com/wp-content/uploads/2023/01/Burger-King-Logo-2021-present-scaled.jpg
ORGANIZER;CN="Converse EDC":MAILTO:staff@converseedc.com
END:VEVENT
BEGIN:VEVENT
DTSTART;TZID=UTC:20230202T100000
DTEND;TZID=UTC:20230202T110000
DTSTAMP:20260423T010254
CREATED:20230111T194646Z
LAST-MODIFIED:20230111T210034Z
UID:3724-1675332000-1675335600@chooseconverse.com
SUMMARY:Red Circle Boba Tea & More Opens﻿ in Converse
DESCRIPTION:The City of Converse Economic Development Corporation (EDC)\ninvites you to join the Red Circle Boba Tea & More\nRibbon Cutting Ceremony at 7215 TX-1604 #107\n(Autumn Heights Shopping Center)\nPh – 210.314.1444 / Facebook
URL:https://chooseconverse.com/event/red-circle-boba-tea-more-opens-in-converse/
LOCATION:Red Circle Boba Tea & More\, 7215 TX-1604 #107\, Converse\, TX\, 78109\, United States
CATEGORIES:Ribbon-Cuttings
ATTACH;FMTTYPE=image/png:https://chooseconverse.com/wp-content/uploads/2023/01/Red-Circle-Boba-Logo-1-1.png
ORGANIZER;CN="Converse EDC":MAILTO:staff@converseedc.com
END:VEVENT
BEGIN:VEVENT
DTSTART;TZID=Asia/Karachi:20221215T100000
DTEND;TZID=Asia/Karachi:20221215T110000
DTSTAMP:20260423T010254
CREATED:20221130T193928Z
LAST-MODIFIED:20221130T194553Z
UID:3701-1671098400-1671102000@chooseconverse.com
SUMMARY:Ribbon Cutting Ceremony Planet Fitness
DESCRIPTION:The City of Converse Economic Development Corporation (EDC) on behalf of Planet Fitness  \ninvites you to their Ribbon Cutting Ceremony on Thursday\, December 15\, 2022\, at 10:00 am. \nThe fitness center is located in Lott’s Landing at 8338 FM 78. Planet Fitness Flyer
URL:https://chooseconverse.com/event/ribbon-cutting-ceremony-planet-fitness/
LOCATION:Planet Fitness\, 8338 FM 78\, Converse\, TX\, 78109\, United States
CATEGORIES:Ribbon-Cuttings
ATTACH;FMTTYPE=image/jpeg:https://chooseconverse.com/wp-content/uploads/2022/11/TXConv-DEC15WinAFlyr-1122.jpg
ORGANIZER;CN="Converse EDC":MAILTO:staff@converseedc.com
END:VEVENT
BEGIN:VEVENT
DTSTART;TZID=UTC:20221117T110000
DTEND;TZID=UTC:20221117T120000
DTSTAMP:20260423T010254
CREATED:20221103T144448Z
LAST-MODIFIED:20221103T144449Z
UID:3695-1668682800-1668686400@chooseconverse.com
SUMMARY:A new Business  Opens in Converse
DESCRIPTION:Tex Stop\, Burger King\, Shell Station Opens in Converse \nThe City of Converse Economic Development Corporation (EDC) \non behalf of Tex Stop and Burger King invites you to their \nRibbon Cutting Ceremony Thursday\, November 17th at 11 am. \nThey are located at 9176 FM 78 (FM 78 and Center Street).
URL:https://chooseconverse.com/event/a-new-business-opens-in-converse/
LOCATION:Burger King\, 9176 FM 78\, Converse\, TX\, 78109\, United States
CATEGORIES:Ribbon-Cuttings
ATTACH;FMTTYPE=image/png:https://chooseconverse.com/wp-content/uploads/2022/11/FB-Event-Cover-BK2.png
ORGANIZER;CN="Converse EDC":MAILTO:staff@converseedc.com
END:VEVENT
BEGIN:VEVENT
DTSTART;TZID=Asia/Karachi:20221117T100000
DTEND;TZID=Asia/Karachi:20221117T110000
DTSTAMP:20260423T010254
CREATED:20221103T132851Z
LAST-MODIFIED:20221103T143652Z
UID:3688-1668679200-1668682800@chooseconverse.com
SUMMARY:A New Development  Breaks Ground in Converse
DESCRIPTION:Santa Monica Plaza Ground Breaking Ceremony  \nThe City of Converse Economic Development Corporation (EDC) \ninvites you to join the Santa Monica Plaza Groundbreaking Ceremony at 9179 FM 78. \nFor leasing information Ph – 210.366.1400 ext 118 \nStoneSet Development Co. \nMarketing Flyer Retail \n* Parking is available at Burger King or at the Santa Monica Plaza site \n**In the event of rain\, the alternate location is Converse City Park Pavillion 307 School St. \n \n 
URL:https://chooseconverse.com/event/a-new-development-breaks-ground-in-converse/
LOCATION:Santa Monica Plaza\, 9179 FM 78\, Converse\, TX\, 78109\, United States
CATEGORIES:Groundbreaking
ATTACH;FMTTYPE=image/jpeg:https://chooseconverse.com/wp-content/uploads/2022/11/Santa-Monica-Cover-1-1-scaled.jpg
ORGANIZER;CN="Converse EDC":MAILTO:staff@converseedc.com
END:VEVENT
BEGIN:VEVENT
DTSTART;TZID=UTC:20220922T100000
DTEND;TZID=UTC:20220922T110000
DTSTAMP:20260423T010254
CREATED:20220830T202812Z
LAST-MODIFIED:20220830T203319Z
UID:3619-1663840800-1663844400@chooseconverse.com
SUMMARY:Ribbon Cutting for the House of BJJ - Brazilian Jiu Jitsu
DESCRIPTION:Join Us in Celebrating A Ribbon Cutting Ceremony on Thursday\, September 22 at 10:00 am. They are located in Lott’s Landing at 8340 FM 78 Suite 6. Call them today for specials and schedules at 210.419.4351 and follow them on their Facebook Page
URL:https://chooseconverse.com/event/ribbon-cutting-for-the-house-of-bjj-brazilian-jiu-jitsu/
LOCATION:House of BJJ\, 8340 FM 78 Suite 6\, Converse\, TX\, 78109\, United States
CATEGORIES:Ribbon-Cuttings
ATTACH;FMTTYPE=image/png:https://chooseconverse.com/wp-content/uploads/2022/08/House-of-BJJ-RC-invite-SM-post-1.png
ORGANIZER;CN="Converse EDC":MAILTO:staff@converseedc.com
END:VEVENT
BEGIN:VEVENT
DTSTART;TZID=UTC:20220825T100000
DTEND;TZID=UTC:20220825T110000
DTSTAMP:20260423T010254
CREATED:20220802T142555Z
LAST-MODIFIED:20220802T142721Z
UID:3598-1661421600-1661425200@chooseconverse.com
SUMMARY:You're Invited - 2 Ribbon Cuttings: Pacific Island Customs & Twirling Sweet Sensations
DESCRIPTION:Join Us in Celebrating TWO Ribbon Cutting Ceremonies Thursday\, August 25th!  \nThe City of Converse EDC on behalf of Pacific Island Customs & Twirling Sensations invites you to their two separate Ribbon Cutting Ceremonies. \nPacific Island Customs at 10:00 am. (9010 FM 1976 #307 Ph – 210.455.6683) \nTwirling Sensations at10:45 am (9010 FM 1976 #308 Ph – 210.488.1950) \nhttps://conta.cc/3Pudod2 
URL:https://chooseconverse.com/event/youre-invited-2-ribbon-cuttings-pacific-island-customs-twirling-sweet-sensations/
LOCATION:Pacific Island Customs\, 9010 FM 1976\, Converse\, TX\, 78109\, United States
CATEGORIES:Ribbon-Cuttings
ORGANIZER;CN="Converse EDC":MAILTO:staff@converseedc.com
END:VEVENT
BEGIN:VEVENT
DTSTART;TZID=UTC:20220809T183000
DTEND;TZID=UTC:20220809T203000
DTSTAMP:20260423T010254
CREATED:20220802T145216Z
LAST-MODIFIED:20220802T145216Z
UID:3604-1660069800-1660077000@chooseconverse.com
SUMMARY:EDC Special Called Board Meeting
DESCRIPTION:
URL:https://chooseconverse.com/event/edc-special-called-board-meeting/
LOCATION:Council Chambers\, 402 S. Seguin\, Converse\, TX\, 78109\, United States
CATEGORIES:EDC Board Meeting
ORGANIZER;CN="Converse EDC":MAILTO:staff@converseedc.com
END:VEVENT
BEGIN:VEVENT
DTSTART;TZID=UTC:20220712T183000
DTEND;TZID=UTC:20220712T193000
DTSTAMP:20260423T010254
CREATED:20220711T181227Z
LAST-MODIFIED:20220711T181227Z
UID:3563-1657650600-1657654200@chooseconverse.com
SUMMARY:EDC Board Meeting
DESCRIPTION:
URL:https://chooseconverse.com/event/edc-board-meeting-2/
LOCATION:Council Chambers\, 402 S. Seguin\, Converse\, TX\, 78109\, United States
END:VEVENT
BEGIN:VEVENT
DTSTART;TZID=UTC:20220707T100000
DTEND;TZID=UTC:20220707T120000
DTSTAMP:20260423T010254
CREATED:20220623T142041Z
LAST-MODIFIED:20220623T142212Z
UID:3543-1657188000-1657195200@chooseconverse.com
SUMMARY:Join us in welcoming  Texas Elite Allstars & Top Dog Tint  to Converse!
DESCRIPTION:Join us in welcoming Texas Elite Allstars & Top Dog Tint  to Converse! \nThe City of Converse Economic Development Corporation (EDC) on behalf of Texas Elite Allstars and Top Dog Tint invites you to their two separate Ribbon Cutting Ceremonies on Thursday\, July 7th\, 2022 \nTexas Elite Allstars at 10:00 a.m. 9010 FM 1976 #401\, Converse\, TX 78109 \nTop Dog Tint at 10:45 a.m. 8801FM 1976 #113\, Converse\, TX 78109 \nTHANK YOU \nConverse Walmart Neighborhood Market has generously donated the cupcakes for this celebration! \nWear your Converse Chucks #ConverseTXChuckStop #ChuckStopConverseTX
URL:https://chooseconverse.com/event/join-us-in-welcoming-texas-elite-allstars-top-dog-tint-to-converse/
LOCATION:Converse Business Park\, 9010 FM 1976\, Converse\, TX\, 78109\, United States
CATEGORIES:Ribbon-Cuttings
ORGANIZER;CN="Converse EDC":MAILTO:staff@converseedc.com
END:VEVENT
BEGIN:VEVENT
DTSTART;TZID=UTC:20220526T104500
DTEND;TZID=UTC:20220526T113000
DTSTAMP:20260423T010254
CREATED:20220505T200643Z
LAST-MODIFIED:20220516T163446Z
UID:3497-1653561900-1653564600@chooseconverse.com
SUMMARY:Ribbon Cutting Arfordable Dog Training
DESCRIPTION:The City of Converse EDC on behalf of Arfordable Dog Training invites you to their Ribbon Cutting Ceremony on Thursday\, May 26th\, 2022 at 10:45 am. \nBusiness Information \n9010 FM 1976 #210 \nEmail \nPh – 210.957.9413 \nFacebook Page
URL:https://chooseconverse.com/event/ribbon-cutting-arfordable-dog-training/
LOCATION:Arfordable Dog Training\, 9010 FM 1976 #210\, Converse\, TX\, 78109\, United States
CATEGORIES:Ribbon-Cuttings
ATTACH;FMTTYPE=image/png:https://chooseconverse.com/wp-content/uploads/2022/05/Arfordable-Dog-Training-Logo-1.png
ORGANIZER;CN="Converse EDC":MAILTO:staff@converseedc.com
END:VEVENT
BEGIN:VEVENT
DTSTART;TZID=UTC:20220526T100000
DTEND;TZID=UTC:20220526T104500
DTSTAMP:20260423T010254
CREATED:20220505T204206Z
LAST-MODIFIED:20220516T163248Z
UID:3501-1653559200-1653561900@chooseconverse.com
SUMMARY:Ribbon Cutting San Antonio Gymnastics Academy
DESCRIPTION:The City of Converse EDC on behalf of San Antonio Gymnastics Academy invites you to their Ribbon Cutting Ceremony on Thursday\, May 26th\, 2022 at 10:00 am. \nBusiness Information \n9010 FM 1976 #406 \nEmail \nPh – 210.957.9413 \nFacebook Page
URL:https://chooseconverse.com/event/ribbon-cutting-san-antonio-gymnastics-academy/
LOCATION:San Antonio Gymnastics Academy\, 9010 FM 1976 #406\, Converse\, 78109\, United States
CATEGORIES:Ribbon-Cuttings
ATTACH;FMTTYPE=image/png:https://chooseconverse.com/wp-content/uploads/2022/05/Sa-gym-arfordable-logo.png
ORGANIZER;CN="Converse EDC":MAILTO:staff@converseedc.com
END:VEVENT
BEGIN:VEVENT
DTSTART;TZID=UTC:20220520T160000
DTEND;TZID=UTC:20220520T170000
DTSTAMP:20260423T010254
CREATED:20220421T143711Z
LAST-MODIFIED:20220421T143712Z
UID:3489-1653062400-1653066000@chooseconverse.com
SUMMARY:Ribbon Cutting Soiree de Prestige  Event Hall & Design Studio
DESCRIPTION:The City of Converse EDC on behalf of Soiree De Prestige invites you to their Ribbon Cutting Ceremony on Friday\, May 20th\, 2022 at 4:00 pm. \nBusiness Information \n8340 FM 78 #5 (Lott’s Landing) \nEmail \nPh – 210.957.9413 \nFacebook Page
URL:https://chooseconverse.com/event/ribbon-cutting-soiree-de-prestige-event-hall-design-studio/
LOCATION:Soire de Prestige\, 8340 FM 78\, Converse\, TX\, 78109\, United States
CATEGORIES:Ribbon-Cuttings
ATTACH;FMTTYPE=image/png:https://chooseconverse.com/wp-content/uploads/2022/04/Facebook-Event-Cover-Soire-de-Prestige.png
ORGANIZER;CN="Converse EDC":MAILTO:staff@converseedc.com
END:VEVENT
END:VCALENDAR